BEGIN:VCALENDAR
VERSION:2.0
PRODID:-//RadioDyplom//SES Calendar//EN
CALSCALE:GREGORIAN
METHOD:PUBLISH
X-WR-CALNAME:Kalendarz SES - RadioDyplom
X-WR-CALDESC:Kalendarz Special Event Station z RadioDyplom
X-WR-TIMEZONE:Europe/Warsaw
X-PUBLISHED-TTL:PT1H
BEGIN:VEVENT
UID:ses-138-20251122@radiodyplom.pl
DTSTART;VALUE=DATE:20251122
DTEND;VALUE=DATE:20260623
DTSTAMP:20260420T091024Z
CREATED:20260420T091024Z
LAST-MODIFIED:20260420T091024Z
SUMMARY:Gwiazda Polski Zawisza
URL:https://radiodyplom.pl/ses/138
CATEGORIES:HAM Radio,SES,Special Event Station
STATUS:CONFIRMED
TRANSP:TRANSPARENT
CLASS:PUBLIC
END:VEVENT
BEGIN:VEVENT
UID:ses-155-20260101@radiodyplom.pl
DTSTART;VALUE=DATE:20260101
DTEND;VALUE=DATE:20270101
DTSTAMP:20260420T091024Z
CREATED:20260420T091024Z
LAST-MODIFIED:20260420T091024Z
SUMMARY:Polscy Święci
DESCRIPTION: Upamiętniają naszych Polskich Świętych 
URL:https://radiodyplom.pl/ses/155
CATEGORIES:HAM Radio,SES,Special Event Station
STATUS:CONFIRMED
TRANSP:TRANSPARENT
CLASS:PUBLIC
END:VEVENT
BEGIN:VEVENT
UID:ses-162-20260108@radiodyplom.pl
DTSTART;VALUE=DATE:20260108
DTEND;VALUE=DATE:20270101
DTSTAMP:20260420T091024Z
CREATED:20260420T091024Z
LAST-MODIFIED:20260420T091024Z
SUMMARY:100th Rede Emissores Portugueses
DESCRIPTION:[b]CT100RE: 100th Anniversary of REP.[/b]\\n\\nThe Rede dos Emissores Portugueses - REP presents an activity open to its members throughout Portugal\, from January 8th to December 31st\, 2026\, wit...
URL:https://radiodyplom.pl/ses/162
CATEGORIES:HAM Radio,SES,Special Event Station
STATUS:CONFIRMED
TRANSP:TRANSPARENT
CLASS:PUBLIC
END:VEVENT
BEGIN:VEVENT
UID:ses-183-20260316@radiodyplom.pl
DTSTART;VALUE=DATE:20260316
DTEND;VALUE=DATE:20261231
DTSTAMP:20260420T091024Z
CREATED:20260420T091024Z
LAST-MODIFIED:20260420T091024Z
SUMMARY:HF10SQ8W - 10 lat aktywności SQ8W
URL:https://radiodyplom.pl/ses/183
CATEGORIES:HAM Radio,SES,Special Event Station
STATUS:CONFIRMED
TRANSP:TRANSPARENT
CLASS:PUBLIC
END:VEVENT
BEGIN:VEVENT
UID:ses-205-20260401@radiodyplom.pl
DTSTART;VALUE=DATE:20260401
DTEND;VALUE=DATE:20260501
DTSTAMP:20260420T091024Z
CREATED:20260420T091024Z
LAST-MODIFIED:20260420T091024Z
SUMMARY:680. rocznica nadania praw miejskich Bydgoszczy
DESCRIPTION:[b]Regulamin Akcji Dyplomowej\\n680. rocznica nadania praw miejskich Bydgoszczy[/b]\\n\\n[b]Organizator.[/b]\\nBydgoski Oddział Terenowy Polskiego Związku Krótkofalowców.\\n\\n[b]Cel akcji.[/b]\\nU...
URL:https://radiodyplom.pl/ses/205
CATEGORIES:HAM Radio,SES,Special Event Station
STATUS:CONFIRMED
TRANSP:TRANSPARENT
CLASS:PUBLIC
END:VEVENT
BEGIN:VEVENT
UID:ses-171-20260417@radiodyplom.pl
DTSTART;VALUE=DATE:20260417
DTEND;VALUE=DATE:20260425
DTSTAMP:20260420T091024Z
CREATED:20260420T091024Z
LAST-MODIFIED:20260420T091024Z
SUMMARY:100. rocznica otwarcia w Warszawie Rozgłośni Polskiego Radia (1926)
DESCRIPTION:1. ORGANIZATORZY Organizatorem akcji dyplomowej jest Koniecpolski Klub Krótkofalowców.\\nStacja Klubowa SP9KKA przyznaje 10 punktów łączność obowiązkowa.\\nOraz stacje współpracujące\, które przyzn...
URL:https://radiodyplom.pl/ses/171
CATEGORIES:HAM Radio,SES,Special Event Station
STATUS:CONFIRMED
TRANSP:TRANSPARENT
CLASS:PUBLIC
END:VEVENT
BEGIN:VEVENT
UID:ses-228-20260418@radiodyplom.pl
DTSTART;VALUE=DATE:20260418
DTEND;VALUE=DATE:20260427
DTSTAMP:20260420T091024Z
CREATED:20260420T091024Z
LAST-MODIFIED:20260420T091024Z
SUMMARY:6th Anniversary ANARPT
DESCRIPTION:[b]CR5ARP  [/b]Special Callsign Celebrating the ANARPT Anniversary \\n2026 - 6th Anniversary Live from [b]April 18 to April 26\, 2026[/b]\, bringing together amateur radio operators to celebrate an...
URL:https://radiodyplom.pl/ses/228
CATEGORIES:HAM Radio,SES,Special Event Station
STATUS:CONFIRMED
TRANSP:TRANSPARENT
CLASS:PUBLIC
END:VEVENT
BEGIN:VEVENT
UID:ses-179-20260425@radiodyplom.pl
DTSTART;VALUE=DATE:20260425
DTEND;VALUE=DATE:20260501
DTSTAMP:20260420T091024Z
CREATED:20260420T091024Z
LAST-MODIFIED:20260420T091024Z
SUMMARY:HUBAL
DESCRIPTION:Henryk Dobrzański\, ps. „Hubal”(ur. 22 czerwca 1897 w Jaśle\, zm. 30 kwietnia 1940 pod Anielinem) – major kawalerii Wojska Polskiego\, jeździec\, ostatni polski „zagończyk” jako dowódca Oddziału Wy...
URL:https://radiodyplom.pl/ses/179
CATEGORIES:HAM Radio,SES,Special Event Station
STATUS:CONFIRMED
TRANSP:TRANSPARENT
CLASS:PUBLIC
END:VEVENT
BEGIN:VEVENT
UID:ses-192-20260502@radiodyplom.pl
DTSTART;VALUE=DATE:20260502
DTEND;VALUE=DATE:20260505
DTSTAMP:20260420T091024Z
CREATED:20260420T091024Z
LAST-MODIFIED:20260420T091024Z
SUMMARY:ORP Grom Ostatnia Misja
URL:https://radiodyplom.pl/ses/192
CATEGORIES:HAM Radio,SES,Special Event Station
STATUS:CONFIRMED
TRANSP:TRANSPARENT
CLASS:PUBLIC
END:VEVENT
BEGIN:VEVENT
UID:ses-216-20260508@radiodyplom.pl
DTSTART;VALUE=DATE:20260508
DTEND;VALUE=DATE:20260516
DTSTAMP:20260420T091024Z
CREATED:20260420T091024Z
LAST-MODIFIED:20260420T091024Z
SUMMARY:Puławy 120
DESCRIPTION:[b]Akcja dyplomowa Puławskiej Grupy Krótkofalowców[/b]\\n„[b][b]Puławy. 120 rocznica nadania praw miejskich[/b]”[/b]\\nW 2026 roku Puławy obchodzą wyjątkowy jubileusz 120-lecia uzyskania praw miejs...
URL:https://radiodyplom.pl/ses/216
CATEGORIES:HAM Radio,SES,Special Event Station
STATUS:CONFIRMED
TRANSP:TRANSPARENT
CLASS:PUBLIC
END:VEVENT
BEGIN:VEVENT
UID:ses-197-20260508@radiodyplom.pl
DTSTART;VALUE=DATE:20260508
DTEND;VALUE=DATE:20260513
DTSTAMP:20260420T091024Z
CREATED:20260420T091024Z
LAST-MODIFIED:20260420T091024Z
SUMMARY:80. rocznica urodzin Ireny Kirszenstein-Szewińskiej
DESCRIPTION:1. ORGANIZATORZY Organizatorem akcji dyplomowej jest Koniecpolski Klub Krótkofalowców.\\nStacja Klubowa SP9KKA przyznaje 10 punktów łączność obowiązkowa.\\nOraz stacje współpracujące\, które przyzn...
URL:https://radiodyplom.pl/ses/197
CATEGORIES:HAM Radio,SES,Special Event Station
STATUS:CONFIRMED
TRANSP:TRANSPARENT
CLASS:PUBLIC
END:VEVENT
BEGIN:VEVENT
UID:ses-188-20260516@radiodyplom.pl
DTSTART;VALUE=DATE:20260516
DTEND;VALUE=DATE:20260530
DTSTAMP:20260420T091024Z
CREATED:20260420T091024Z
LAST-MODIFIED:20260420T091024Z
SUMMARY:NARVIK 1940
URL:https://radiodyplom.pl/ses/188
CATEGORIES:HAM Radio,SES,Special Event Station
STATUS:CONFIRMED
TRANSP:TRANSPARENT
CLASS:PUBLIC
END:VEVENT
BEGIN:VEVENT
UID:ses-213-20260601@radiodyplom.pl
DTSTART;VALUE=DATE:20260601
DTEND;VALUE=DATE:20260712
DTSTAMP:20260420T091024Z
CREATED:20260420T091024Z
LAST-MODIFIED:20260420T091024Z
SUMMARY:GRYF Ogólnopolskie Spotkanie Krótkofalowców Czymanowo 2026
URL:https://radiodyplom.pl/ses/213
CATEGORIES:HAM Radio,SES,Special Event Station
STATUS:CONFIRMED
TRANSP:TRANSPARENT
CLASS:PUBLIC
END:VEVENT
BEGIN:VEVENT
UID:ses-233-20260601@radiodyplom.pl
DTSTART;VALUE=DATE:20260601
DTEND;VALUE=DATE:20260608
DTSTAMP:20260420T091024Z
CREATED:20260420T091024Z
LAST-MODIFIED:20260420T091024Z
SUMMARY:CONCORDE 50 – NADDŹWIĘKOWA ŁĄCZNOŚĆ
DESCRIPTION:[b]CONCORDE 50[/b]\\nMiędzynarodowa akcja dyplomowa Klubu World Group Communication (WGC - wgc.eu.com)\\n[b][url=https://wgc.eu.com]Klub World Group Communication (WGC)[/url][/b] zaprasza do udział...
URL:https://radiodyplom.pl/ses/233
CATEGORIES:HAM Radio,SES,Special Event Station
STATUS:CONFIRMED
TRANSP:TRANSPARENT
CLASS:PUBLIC
END:VEVENT
BEGIN:VEVENT
UID:ses-196-20260612@radiodyplom.pl
DTSTART;VALUE=DATE:20260612
DTEND;VALUE=DATE:20260617
DTSTAMP:20260420T091024Z
CREATED:20260420T091024Z
LAST-MODIFIED:20260420T091024Z
SUMMARY:185 rocznica urodzin Elizy Orzeszkowej
DESCRIPTION:1. ORGANIZATORZY Organizatorem akcji dyplomowej jest Koniecpolski Klub Krótkofalowców.\\nStacja Klubowa SP9KKA przyznaje 10 punktów łączność obowiązkowa.\\nOraz stacje współpracujące\, które przyzn...
URL:https://radiodyplom.pl/ses/196
CATEGORIES:HAM Radio,SES,Special Event Station
STATUS:CONFIRMED
TRANSP:TRANSPARENT
CLASS:PUBLIC
END:VEVENT
BEGIN:VEVENT
UID:ses-182-20260621@radiodyplom.pl
DTSTART;VALUE=DATE:20260621
DTEND;VALUE=DATE:20260924
DTSTAMP:20260420T091024Z
CREATED:20260420T091024Z
LAST-MODIFIED:20260420T091024Z
SUMMARY:HF650LLL - 650 lat lokacji Lubatowej
URL:https://radiodyplom.pl/ses/182
CATEGORIES:HAM Radio,SES,Special Event Station
STATUS:CONFIRMED
TRANSP:TRANSPARENT
CLASS:PUBLIC
END:VEVENT
BEGIN:VEVENT
UID:ses-222-20260622@radiodyplom.pl
DTSTART;VALUE=DATE:20260622
DTEND;VALUE=DATE:20260701
DTSTAMP:20260420T091024Z
CREATED:20260420T091024Z
LAST-MODIFIED:20260420T091024Z
SUMMARY:Legendy Polskiej motoryzacji
DESCRIPTION:[b]Legendy Polskiej Motoryzacji są z nami!\\n[/b]Uczcijmy to wspólnie\, biorąc udział w naszej [b]akcji dyplomowej[/b]! \\nW celu uzyskania dyplomu należy zebrać odpowiednią liczbę punktów.\\n[b]Za...
URL:https://radiodyplom.pl/ses/222
CATEGORIES:HAM Radio,SES,Special Event Station
STATUS:CONFIRMED
TRANSP:TRANSPARENT
CLASS:PUBLIC
END:VEVENT
BEGIN:VEVENT
UID:ses-195-20260710@radiodyplom.pl
DTSTART;VALUE=DATE:20260710
DTEND;VALUE=DATE:20260715
DTSTAMP:20260420T091024Z
CREATED:20260420T091024Z
LAST-MODIFIED:20260420T091024Z
SUMMARY:505 rocznica zawieszenia na wieży Katedry Wawelskiej Dzwonu Zygmunta
DESCRIPTION:ORGANIZATORZY Organizatorem akcji dyplomowej jest Koniecpolski Klub Krótkofalowców.\\nStacja Klubowa SP9KKA przyznaje 10 punktów łączność obowiązkowa.\\nOraz stacje współpracujące\, które przyznają...
URL:https://radiodyplom.pl/ses/195
CATEGORIES:HAM Radio,SES,Special Event Station
STATUS:CONFIRMED
TRANSP:TRANSPARENT
CLASS:PUBLIC
END:VEVENT
END:VCALENDAR
